BEGIN:VCALENDAR
VERSION:2.0
PRODID:-//ZContent.net//ZapCalLib 1.0//EN
CALSCALE:GREGORIAN
METHOD:PUBLISH
BEGIN:VEVENT
SUMMARY:The Making of the American Mind: The Story of our Declaration of In
 dependence
Description:Jefferson called the Declaration of Independence “an expressi
 on of\nthe American mind.” What is that mind and what does it tell us fo
 r\ntoday\, especially about the great questions of …\n\n----------------
 ---------\n The Making of the American Mind: The Story of our Declaration 
 of\nIndependence\n[https://faithandlaw.org/events/2026/06/declaration-of-i
 ndependence-spalding/]\nFaith And Law [https://faithandlaw.org]
X-ALT-DESC;FMTTYPE=text/html:<!DOCTYPE HTML PUBLIC "-//W3C//DTD HTML 3.2//E
 N">\n<HTML>\n<HEAD><TITLE>The Making of the American Mind: The Story of ou
 r Declaration of Independence</TITLE></HEAD><BODY>Jefferson called the Dec
 laration of Independence “an expression of the American mind.” What is
  that mind and what does it tell us for today\, especially about the great
  questions of &hellip\;<br /><br /><hr />\n\n<a href="https://faithandlaw.
 org/events/2026/06/declaration-of-independence-spalding/">The Making of th
 e American Mind: The Story of our Declaration of Independence</a><br /><a 
 href="https://faithandlaw.org">Faith And Law</a></BODY></HTML>
UID:2026-04-21-08-46-30@faithandlaw.org
DTSTAMP:20260421T084630
DTSTART:20260626T120000
DTEND:20260626T130000
END:VEVENT
END:VCALENDAR
