BEGIN:VCALENDAR
VERSION:2.0
PRODID:-//ZContent.net//ZapCalLib 1.0//EN
CALSCALE:GREGORIAN
METHOD:PUBLISH
BEGIN:VEVENT
SUMMARY:The Indispensable Virtues of the Indispensable Man:  A Moral Biog
 raphy of George Washington
Description:Long known as the Pater Patria\, the patriotism and personal vi
 rtue of\nGeorge Washington have long been admired by a grateful nation. In
  this\nlecture\, Prud’homme will delve more deeply …\n\n--------------
 -----------\n The Indispensable Virtues of the Indispensable Man:  A Mor
 al\nBiography of George Washington\n[https://faithandlaw.org/events/2026/
 05/prudhomme-george-washington/]\nFaith And Law [https://faithandlaw.org]
X-ALT-DESC;FMTTYPE=text/html:<!DOCTYPE HTML PUBLIC "-//W3C//DTD HTML 3.2//E
 N">\n<HTML>\n<HEAD><TITLE>The Indispensable Virtues of the Indispensable 
 Man:  A Moral Biography of George Washington</TITLE></HEAD><BODY>Long kn
 own as the Pater Patria\, the patriotism and personal virtue of George Was
 hington have long been admired by a grateful nation. In this lecture\, Pru
 d&#8217\;homme will delve more deeply &hellip\;<br /><br /><hr />\n\n<a hr
 ef="https://faithandlaw.org/events/2026/05/prudhomme-george-washington/">T
 he Indispensable Virtues of the Indispensable Man:  A Moral Biography o
 f George Washington</a><br /><a href="https://faithandlaw.org">Faith And L
 aw</a></BODY></HTML>
UID:2026-04-23-11-00-45@faithandlaw.org
DTSTAMP:20260423T110045
DTSTART:20260501T120000
DTEND:20260501T130000
END:VEVENT
END:VCALENDAR
